BEGIN:VCALENDAR
METHOD:PUBLISH
PRODID:-//https://www.diveinstructor.com.ua//NONSGML jCal Pro 2.2.10.545//
VERSION:2.0
X-WR-CALNAME:JCal Pro Calendar
X-WR-CALDESC:Your online events calendar
X-WR-TIMEZONE:Europe/Kiev
BEGIN:VEVENT
UID:b68a53627eb00cbff204033326965509http://diveinstructor.com.ua
DTSTAMP:20260419T172109Z
CONTACT:АР Крым\, п.г.т. Мирный\, дайвцентр 'Wrecks
  of western Crimea'\n+38050 4877739  SKYPE bataeww
DESCRIPTION:\nПровожу курсы SDI Open Water Scuba Diver.
DTEND:20120712T050000Z
DTSTART:20120710T050000Z
LAST-MODIFIED:20120708T101600Z
SUMMARY:Курсы SDI OWSD
URL:http://divingsea.com.ua/
END:VEVENT
BEGIN:VEVENT
UID:6dbecbebfa94681fbc69d6ed3725048chttp://diveinstructor.com.ua
DTSTAMP:20260419T172109Z
CONTACT:АР Крым\, п.г.т. Мирный\, дайвцентр 'Wrecks
  of western Crimea'\n+38050 4877739     SKYPE      bataeww
DESCRIPTION:  \nПроведение курсов Extended Range (kursy/obu
 chenie-tdi/extended-range.html) &amp\; Trimix (kursy/obuchenie-tdi/trimix.
 html). Свободно одно место.\nПодробнее посм
 треть на карте (http://maps.google.com.ua/maps/ms?msa=0&amp\;
 msid=203216498017730136768.0004ba6770093b321c1db&amp\;hl=ru&amp\;ie=UTF8&a
 mp\;t=h&amp\;ll=45.214938\,32.89032&amp\;spn=0.464359\,0.878906&amp\;z=10&
 amp\;source=embed)
DTEND:20120722T070000Z
DTSTART:20120716T060000Z
LAST-MODIFIED:20120708T052200Z
SUMMARY:Курсы Extended Range & Trimix
URL:http://divingsea.com.ua/
END:VEVENT
BEGIN:VEVENT
UID:170371259a3eedd1748c294da2fcd16chttp://diveinstructor.com.ua/administra
 tor
DTSTAMP:20260419T172109Z
CONTACT:АР Крым\, п.г.т. Мирный\, дайвцентр 'Wrecks
  of western Crimea' \n+38050 4877739  SKYPE bataeww
DESCRIPTION:Курсы TDI Advanced Nitrox (http://divingsea.com.ua/kursy/o
 buchenie-tdi/advanced-nitrox.html) и Decompression Procedures (http://div
 ingsea.com.ua/kursy/obuchenie-tdi/decompression-procedures.html)\nСвоб
 одных мест нет.
DTEND:20120918T050000Z
DTSTART:20120912T050000Z
LAST-MODIFIED:20120910T083500Z
SUMMARY:Курсы TDI Advanced Nitrox и Decompression Procedures
URL:http://divingsea.com.ua/
END:VEVENT
BEGIN:VEVENT
UID:faaac73efdf856991b14c6aa8d73e81fhttp://diveinstructor.com.ua
DTSTAMP:20260419T172109Z
CONTACT:АР Крым\, п.г.т. Мирный\, дайвцентр 'Wrecks
  of western Crimea'\n+38050 4877739    SKYPE      bataeww
DESCRIPTION:Курсы TDI. Свободных мест нет.
DTEND:20120924T050000Z
DTSTART:20120918T050000Z
LAST-MODIFIED:20120828T190500Z
SUMMARY:Курсы TDI
URL:http://divingsea.com.ua/
END:VEVENT
BEGIN:VEVENT
UID:12013a61325f6bfcb7716fb27e80b6cbhttp://diveinstructor.com.ua
DTSTAMP:20260419T172109Z
CONTACT:АР Крым\, п.г.т. Мирный\, дайвцентр 'Wrecks
  of western Crimea'\n+38050 4877739    SKYPE bataeww
DESCRIPTION:Курсы SDI Deep Diver (http://divingsea.com.ua/kursy/obuche
 nie-sdi/deep-diver.html)
DTEND:20130711T050000Z
DTSTART:20130708T050000Z
LAST-MODIFIED:20130703T161600Z
SUMMARY:Курсы SDI DEEP Diver
URL:http://divingsea.com.ua/
END:VEVENT
BEGIN:VEVENT
UID:12621770a7ba75950109a32c1c1a8405http://diveinstructor.com.ua
DTSTAMP:20260419T172109Z
CONTACT:АР Крым\, п.г.т. Мирный\, дайвцентр 'Wrecks
  of western Crimea'\nКонтакты : +38050 4877739  SKYPE:  bataeww
DESCRIPTION:Курсы TDI Extended Range (http://divingsea.com.ua/kursy/ob
 uchenie-tdi/extended-range.html) &amp\; Trimix. (http://divingsea.com.ua/k
 ursy/obuchenie-tdi/trimix.html)\nСвободно 1место.
DTEND:20130905T060000Z
DTSTART:20130829T050000Z
LAST-MODIFIED:20130813T095700Z
SUMMARY:Курсы TDI Extended Range & Trimix.
URL:http://divingsea.com.ua/
END:VEVENT
END:VCALENDAR
