BEGIN:VCALENDAR
METHOD:PUBLISH
PRODID:-//https://www.diveinstructor.com.ua//NONSGML jCal Pro 2.2.10.545//
VERSION:2.0
X-WR-CALNAME:JCal Pro Calendar
X-WR-CALDESC:Your online events calendar
X-WR-TIMEZONE:Europe/Kiev
BEGIN:VEVENT
UID:12621770a7ba75950109a32c1c1a8405http://diveinstructor.com.ua
DTSTAMP:20260420T055902Z
CONTACT:АР Крым\, п.г.т. Мирный\, дайвцентр 'Wrecks
  of western Crimea'\nКонтакты : +38050 4877739  SKYPE:  bataeww
DESCRIPTION:Курсы TDI Extended Range (http://divingsea.com.ua/kursy/ob
 uchenie-tdi/extended-range.html) &amp\; Trimix. (http://divingsea.com.ua/k
 ursy/obuchenie-tdi/trimix.html)\nСвободно 1место.
DTEND:20130905T060000Z
DTSTART:20130829T050000Z
LAST-MODIFIED:20130813T095700Z
SUMMARY:Курсы TDI Extended Range & Trimix.
URL:http://divingsea.com.ua/
END:VEVENT
END:VCALENDAR
